BEGIN:VCALENDAR
VERSION:2.0
PRODID:-//Óusservatòri - ECPv5.8.0//NONSGML v1.0//EN
CALSCALE:GREGORIAN
METHOD:PUBLISH
X-WR-CALNAME:Óusservatòri
X-ORIGINAL-URL:https://www.observatoire-provence.com
X-WR-CALDESC:évènements pour Óusservatòri
BEGIN:VTIMEZONE
TZID:Europe/Paris
BEGIN:DAYLIGHT
TZOFFSETFROM:+0100
TZOFFSETTO:+0200
TZNAME:CEST
DTSTART:20240331T010000
END:DAYLIGHT
BEGIN:STANDARD
TZOFFSETFROM:+0200
TZOFFSETTO:+0100
TZNAME:CET
DTSTART:20241027T010000
END:STANDARD
END:VTIMEZONE
BEGIN:VEVENT
DTSTART;TZID=Europe/Paris:20240704T203000
DTEND;TZID=Europe/Paris:20240704T223000
DTSTAMP:20260422T173547
CREATED:20240627T073229Z
LAST-MODIFIED:20240627T073229Z
UID:3556-1720125000-1720132200@www.observatoire-provence.com
SUMMARY:Vesprado-Barbentane
DESCRIPTION:
URL:https://www.observatoire-provence.com/evenement/vesprado-barbentane/
LOCATION:Salle des Fêtes de Barbentane\, 197 Rte de Boulbon\, Barbentane\, 13570\, France
ATTACH;FMTTYPE=image/jpeg:https://www.observatoire-provence.com/wp-content/uploads/2024/06/04-juillet-2024-Vesprado.jpg
END:VEVENT
END:VCALENDAR