BEGIN:VCALENDAR
VERSION:2.0
PRODID:-//Óusservatòri - ECPv5.8.0//NONSGML v1.0//EN
CALSCALE:GREGORIAN
METHOD:PUBLISH
X-WR-CALNAME:Óusservatòri
X-ORIGINAL-URL:https://www.observatoire-provence.com
X-WR-CALDESC:évènements pour Óusservatòri
BEGIN:VTIMEZONE
TZID:Europe/Paris
BEGIN:DAYLIGHT
TZOFFSETFROM:+0100
TZOFFSETTO:+0200
TZNAME:CEST
DTSTART:20250330T010000
END:DAYLIGHT
BEGIN:STANDARD
TZOFFSETFROM:+0200
TZOFFSETTO:+0100
TZNAME:CET
DTSTART:20251026T010000
END:STANDARD
END:VTIMEZONE
BEGIN:VEVENT
DTSTART;TZID=Europe/Paris:20251006T143000
DTEND;TZID=Europe/Paris:20251012T170000
DTSTAMP:20260423T163648
CREATED:20250929T134046Z
LAST-MODIFIED:20250929T134046Z
UID:4653-1759761000-1760288400@www.observatoire-provence.com
SUMMARY:Semaine Bleue à Cheval-Blanc
DESCRIPTION:La Semaine Bleue est un événement national en France qui célèbre les contributions des personnes âgées et des retraités\, et se déroulera en 2025 du 6 au 12 octobre. Elle vise à valoriser la place des aînés dans la société et à promouvoir des actions intergénérationnelles. Cet événement a été créé en 1951 et a évolué au fil des ans pour mettre en lumière les contributions des personnes âgées à la vie sociale\, économique et culturelle de la France. \nPour débuter cette semaine\, un goûter-rencontre sur le thème des « Souvenirs du Mas Saint-Paul » est organisé à l’Observatoire de la langue et de la culture provençales le 6 octobre à 14h30. Réservation conseillée car nombre de places limité! \nLes autres animations et activités proposées sur toute la semaine sont gratuites et ouvertes à toutes et à tous également! Pensez à réserver quand cela est conseillé! \n \n 
URL:https://www.observatoire-provence.com/evenement/semaine-bleue-a-cheval-blanc/
LOCATION:Cheval-Blanc\, Cheval-Blanc\, 84460
ATTACH;FMTTYPE=image/jpeg:https://www.observatoire-provence.com/wp-content/uploads/2025/09/Flyer-semaine-bleue.jpeg
END:VEVENT
END:VCALENDAR