BEGIN:VCALENDAR
VERSION:2.0
PRODID:-//Óusservatòri - ECPv5.8.0//NONSGML v1.0//EN
CALSCALE:GREGORIAN
METHOD:PUBLISH
X-WR-CALNAME:Óusservatòri
X-ORIGINAL-URL:https://www.observatoire-provence.com
X-WR-CALDESC:évènements pour Óusservatòri
BEGIN:VTIMEZONE
TZID:Europe/Paris
BEGIN:DAYLIGHT
TZOFFSETFROM:+0100
TZOFFSETTO:+0200
TZNAME:CEST
DTSTART:20240331T010000
END:DAYLIGHT
BEGIN:STANDARD
TZOFFSETFROM:+0200
TZOFFSETTO:+0100
TZNAME:CET
DTSTART:20241027T010000
END:STANDARD
END:VTIMEZONE
BEGIN:VEVENT
DTSTART;TZID=Europe/Paris:20240518T100000
DTEND;TZID=Europe/Paris:20240518T150000
DTSTAMP:20260422T174250
CREATED:20240511T073628Z
LAST-MODIFIED:20240511T073628Z
UID:3377-1716026400-1716044400@www.observatoire-provence.com
SUMMARY:Printemps Provençal-Istres
DESCRIPTION:
URL:https://www.observatoire-provence.com/evenement/printemps-provencal-istres/
LOCATION:Istres\, 13800
CATEGORIES:Fête traditionnelle
ATTACH;FMTTYPE=image/jpeg:https://www.observatoire-provence.com/wp-content/uploads/2024/05/Printemps-provencal-18-mai.jpg
ORGANIZER;CN="Association%20Lou%20Liame":MAILTO:jemamajecle@wanadoo.fr
END:VEVENT
END:VCALENDAR