BEGIN:VCALENDAR
VERSION:2.0
PRODID:-//Óusservatòri - ECPv5.8.0//NONSGML v1.0//EN
CALSCALE:GREGORIAN
METHOD:PUBLISH
X-WR-CALNAME:Óusservatòri
X-ORIGINAL-URL:https://www.observatoire-provence.com
X-WR-CALDESC:évènements pour Óusservatòri
BEGIN:VTIMEZONE
TZID:Europe/Paris
BEGIN:DAYLIGHT
TZOFFSETFROM:+0100
TZOFFSETTO:+0200
TZNAME:CEST
DTSTART:20220327T010000
END:DAYLIGHT
BEGIN:STANDARD
TZOFFSETFROM:+0200
TZOFFSETTO:+0100
TZNAME:CET
DTSTART:20221030T010000
END:STANDARD
END:VTIMEZONE
BEGIN:VEVENT
DTSTART;TZID=Europe/Paris:20220515T100000
DTEND;TZID=Europe/Paris:20220515T190000
DTSTAMP:20260423T114707
CREATED:20220502T090738Z
LAST-MODIFIED:20220503T130701Z
UID:2234-1652608800-1652641200@www.observatoire-provence.com
SUMMARY:Journée provençale de Jonquières
DESCRIPTION:Fête et traditions… c’est le retour de la JOURNÉE PROVENÇALE le 15 mai prochain. \nSur le thème “Nature et traditions”\, de 10h à 19h\, les rues du centre-ville s’animeront avec des groupes de musiques et danses provençales\, des ateliers et jeux pour enfants\, des démonstrations de chiens de bergers\, une mini ferme\, un marché provençal et d’artisanat d’art\, des expositions\, un salon des écrivains provençaux\, un concours de vélos fleuris\, et bien d’autres animations.\nUne véritable plongée dans la tradition. \nLe programme détaillé est disponible ici : 2022-Journée Provençale de Jonquières – Programme. \nPlus d’infos auprès du Pôle Culture et Communication à culture@jonquieres.fr ou 04 90 70 59 04. \n  \n 
URL:https://www.observatoire-provence.com/evenement/journee-provencale-de-jonquieres/
LOCATION:Centre ville de Jonquières\, Centre-ville\, Jonquières\, 84150\, France
ATTACH;FMTTYPE=image/png:https://www.observatoire-provence.com/wp-content/uploads/2022/05/2022-Journee-Provencale-Affiche-30X40-V1-1.png
END:VEVENT
END:VCALENDAR