BEGIN:VCALENDAR
VERSION:2.0
PRODID:-//Óusservatòri - ECPv5.8.0//NONSGML v1.0//EN
CALSCALE:GREGORIAN
METHOD:PUBLISH
X-WR-CALNAME:Óusservatòri
X-ORIGINAL-URL:https://www.observatoire-provence.com
X-WR-CALDESC:évènements pour Óusservatòri
BEGIN:VTIMEZONE
TZID:Europe/Paris
BEGIN:DAYLIGHT
TZOFFSETFROM:+0100
TZOFFSETTO:+0200
TZNAME:CEST
DTSTART:20240331T010000
END:DAYLIGHT
BEGIN:STANDARD
TZOFFSETFROM:+0200
TZOFFSETTO:+0100
TZNAME:CET
DTSTART:20241027T010000
END:STANDARD
END:VTIMEZONE
BEGIN:VEVENT
DTSTART;VALUE=DATE:20240601
DTEND;VALUE=DATE:20240602
DTSTAMP:20260422T103228
CREATED:20240528T085920Z
LAST-MODIFIED:20240528T085920Z
UID:3486-1717200000-1717286399@www.observatoire-provence.com
SUMMARY:Festival des Fifres et Tambours-Saint-Martin de Vésubie
DESCRIPTION:
URL:https://www.observatoire-provence.com/evenement/festival-des-fifres-et-tambours-saint-martin-de-vesubie/
LOCATION:Saint Martin de Vésubie\, Saint Martin de Vésubie\, 06450
CATEGORIES:Concert,Fête traditionnelle
ATTACH;FMTTYPE=image/jpeg:https://www.observatoire-provence.com/wp-content/uploads/2024/05/AFFICHE-FIFRE-2024-scaled.jpg
END:VEVENT
END:VCALENDAR