BEGIN:VCALENDAR
VERSION:2.0
PRODID:-//Óusservatòri - ECPv5.8.0//NONSGML v1.0//EN
CALSCALE:GREGORIAN
METHOD:PUBLISH
X-WR-CALNAME:Óusservatòri
X-ORIGINAL-URL:https://www.observatoire-provence.com
X-WR-CALDESC:évènements pour Óusservatòri
BEGIN:VTIMEZONE
TZID:Europe/Paris
BEGIN:DAYLIGHT
TZOFFSETFROM:+0100
TZOFFSETTO:+0200
TZNAME:CEST
DTSTART:20250330T010000
END:DAYLIGHT
BEGIN:STANDARD
TZOFFSETFROM:+0200
TZOFFSETTO:+0100
TZNAME:CET
DTSTART:20251026T010000
END:STANDARD
END:VTIMEZONE
BEGIN:VEVENT
DTSTART;TZID=Europe/Paris:20251218T183000
DTEND;TZID=Europe/Paris:20251218T203000
DTSTAMP:20260422T101821
CREATED:20251212T092444Z
LAST-MODIFIED:20251212T092444Z
UID:4953-1766082600-1766089800@www.observatoire-provence.com
SUMMARY:Conférence-Salon
DESCRIPTION:
URL:https://www.observatoire-provence.com/evenement/conference-salon/
LOCATION:Maison de la vie associative\, 55 rue André-Marie Ampère\, Salon de Provence\, 13300
CATEGORIES:Conférence
ATTACH;FMTTYPE=image/jpeg:https://www.observatoire-provence.com/wp-content/uploads/2025/12/conference-SPC.jpg
ORGANIZER;CN="Salon%20Patrimoine%20et%20Chemins":MAILTO:salon.patrimoine.chemins@gmail.com
END:VEVENT
END:VCALENDAR