BEGIN:VCALENDAR
VERSION:2.0
PRODID:-//Óusservatòri - ECPv5.8.0//NONSGML v1.0//EN
CALSCALE:GREGORIAN
METHOD:PUBLISH
X-WR-CALNAME:Óusservatòri
X-ORIGINAL-URL:https://www.observatoire-provence.com
X-WR-CALDESC:évènements pour Óusservatòri
BEGIN:VTIMEZONE
TZID:Europe/Paris
BEGIN:DAYLIGHT
TZOFFSETFROM:+0100
TZOFFSETTO:+0200
TZNAME:CEST
DTSTART:20260329T010000
END:DAYLIGHT
BEGIN:STANDARD
TZOFFSETFROM:+0200
TZOFFSETTO:+0100
TZNAME:CET
DTSTART:20261025T010000
END:STANDARD
END:VTIMEZONE
BEGIN:VEVENT
DTSTART;TZID=Europe/Paris:20260126T203000
DTEND;TZID=Europe/Paris:20260126T213000
DTSTAMP:20260422T184612
CREATED:20260121T102234Z
LAST-MODIFIED:20260121T102234Z
UID:5228-1769459400-1769463000@www.observatoire-provence.com
SUMMARY:Conférence-Eyragues
DESCRIPTION:
URL:https://www.observatoire-provence.com/evenement/conference-eyragues/
LOCATION:Salle Baudile Lagnel\, Eyragues\, 13630
CATEGORIES:Conférence
ATTACH;FMTTYPE=image/jpeg:https://www.observatoire-provence.com/wp-content/uploads/2026/01/1000028342.jpg
END:VEVENT
END:VCALENDAR