BEGIN:VCALENDAR
VERSION:2.0
PRODID:-//Óusservatòri - ECPv5.8.0//NONSGML v1.0//EN
CALSCALE:GREGORIAN
METHOD:PUBLISH
X-WR-CALNAME:Óusservatòri
X-ORIGINAL-URL:https://www.observatoire-provence.com
X-WR-CALDESC:évènements pour Óusservatòri
BEGIN:VTIMEZONE
TZID:Europe/Paris
BEGIN:DAYLIGHT
TZOFFSETFROM:+0100
TZOFFSETTO:+0200
TZNAME:CEST
DTSTART:20250330T010000
END:DAYLIGHT
BEGIN:STANDARD
TZOFFSETFROM:+0200
TZOFFSETTO:+0100
TZNAME:CET
DTSTART:20251026T010000
END:STANDARD
END:VTIMEZONE
BEGIN:VEVENT
DTSTART;TZID=Europe/Paris:20250705T210000
DTEND;TZID=Europe/Paris:20250705T230000
DTSTAMP:20260422T102405
CREATED:20250609T140427Z
LAST-MODIFIED:20250609T140427Z
UID:4476-1751749200-1751756400@www.observatoire-provence.com
SUMMARY:Concert Anniversaire Lei Tulipan
DESCRIPTION:
URL:https://www.observatoire-provence.com/evenement/concert-anniversaire-lei-tulipan/
LOCATION:Auditorium de Clairval\, Carqueiranne\, 83320
CATEGORIES:Concert
ATTACH;FMTTYPE=image/jpeg:https://www.observatoire-provence.com/wp-content/uploads/2025/06/Affiche-concert-2025_page-0001.jpg
END:VEVENT
END:VCALENDAR