BEGIN:VCALENDAR
VERSION:2.0
PRODID:-//Óusservatòri - ECPv5.8.0//NONSGML v1.0//EN
CALSCALE:GREGORIAN
METHOD:PUBLISH
X-WR-CALNAME:Óusservatòri
X-ORIGINAL-URL:https://www.observatoire-provence.com
X-WR-CALDESC:évènements pour Óusservatòri
BEGIN:VTIMEZONE
TZID:Europe/Paris
BEGIN:DAYLIGHT
TZOFFSETFROM:+0100
TZOFFSETTO:+0200
TZNAME:CEST
DTSTART:20240331T010000
END:DAYLIGHT
BEGIN:STANDARD
TZOFFSETFROM:+0200
TZOFFSETTO:+0100
TZNAME:CET
DTSTART:20241027T010000
END:STANDARD
END:VTIMEZONE
BEGIN:VEVENT
DTSTART;TZID=Europe/Paris:20240712T190000
DTEND;TZID=Europe/Paris:20240712T210000
DTSTAMP:20260422T125133
CREATED:20240704T084748Z
LAST-MODIFIED:20240704T084748Z
UID:3586-1720810800-1720818000@www.observatoire-provence.com
SUMMARY:Académie du Tambourin-Concert d'été-Aix
DESCRIPTION:
URL:https://www.observatoire-provence.com/evenement/academie-du-tambourin-concert-dete-aix/
LOCATION:Parc Jourdan\, Aix-en-Provence\, 13080
CATEGORIES:Concert
ATTACH;FMTTYPE=image/jpeg:https://www.observatoire-provence.com/wp-content/uploads/2024/07/Academie-du-Tambourin-concert-dete.jpg
END:VEVENT
END:VCALENDAR