BEGIN:VCALENDAR
VERSION:2.0
PRODID:-//Óusservatòri - ECPv5.8.0//NONSGML v1.0//EN
CALSCALE:GREGORIAN
METHOD:PUBLISH
X-WR-CALNAME:Óusservatòri
X-ORIGINAL-URL:https://www.observatoire-provence.com
X-WR-CALDESC:évènements pour Óusservatòri
BEGIN:VTIMEZONE
TZID:Europe/Paris
BEGIN:DAYLIGHT
TZOFFSETFROM:+0100
TZOFFSETTO:+0200
TZNAME:CEST
DTSTART:20260329T010000
END:DAYLIGHT
BEGIN:STANDARD
TZOFFSETFROM:+0200
TZOFFSETTO:+0100
TZNAME:CET
DTSTART:20261025T010000
END:STANDARD
END:VTIMEZONE
BEGIN:VEVENT
DTSTART;TZID=Europe/Paris:20260201T120000
DTEND;TZID=Europe/Paris:20260201T170000
DTSTAMP:20260422T172132
CREATED:20260116T105232Z
LAST-MODIFIED:20260116T105232Z
UID:5224-1769947200-1769965200@www.observatoire-provence.com
SUMMARY:Bagno Caudo-Grans
DESCRIPTION:organisée par l’association Terre de Provence \n06 28 05 99 61
URL:https://www.observatoire-provence.com/evenement/bagno-caudo-grans-2/
LOCATION:salle Gérard Philipe\, Grans\, 13450
ATTACH;FMTTYPE=image/jpeg:https://www.observatoire-provence.com/wp-content/uploads/2026/01/BAGNO-CAUDO-1er-fevrier-20261.jpeg
ORGANIZER;CN="Terre%20de%20Provence":MAILTO:terredeprovence@hotmail.fr
END:VEVENT
BEGIN:VEVENT
DTSTART;TZID=Europe/Paris:20260206T100000
DTEND;TZID=Europe/Paris:20260425T180000
DTSTAMP:20260422T172132
CREATED:20260202T110727Z
LAST-MODIFIED:20260411T120325Z
UID:5253-1770372000-1777140000@www.observatoire-provence.com
SUMMARY:Exposition - Mas Saint-Paul
DESCRIPTION:entrée 5€ \ngratuit pour les moins de 18 ans et les adhérents \nATTENTION CHANGEMENT: fermeture les jeudis après-midi \nATTENTION: fermeture exceptionnelle le 18 avril en raison du Forum du Collectif Prouvènço à Maussane les Alpilles \n  \n  \n 
URL:https://www.observatoire-provence.com/evenement/exposition-mas-saint-paul/
LOCATION:Observatoire de la langue et de la culture provençales\, 29 route de Pertuis\, CHEVAL-BLANC\, 84460\, France
CATEGORIES:Exposition
ATTACH;FMTTYPE=image/jpeg:https://www.observatoire-provence.com/wp-content/uploads/2026/02/Collectif_web_transhumance_post-FB.jpg
ORGANIZER;CN="Collectif%20Provence%20-%20Observatoire%20de%20la%20langue%20et%20de%20la%20culture%20proven%C3%A7ales":MAILTO:info@observatoire-provence.com
END:VEVENT
BEGIN:VEVENT
DTSTART;TZID=Europe/Paris:20260207T140000
DTEND;TZID=Europe/Paris:20260207T190000
DTSTAMP:20260422T172132
CREATED:20260112T110423Z
LAST-MODIFIED:20260112T110423Z
UID:5013-1770472800-1770490800@www.observatoire-provence.com
SUMMARY:Conférence et visite à la Maison du Cheval Camargue
DESCRIPTION:
URL:https://www.observatoire-provence.com/evenement/conference-et-visite-a-la-maison-du-cheval-camargue/
LOCATION:Maison du Cheval Camargue\, Mas de la Cure-Route D 570\, Saintes Maries de la Mer\, 13460
CATEGORIES:Conférence
ATTACH;FMTTYPE=image/jpeg:https://www.observatoire-provence.com/wp-content/uploads/2026/01/MDP90_40.jpg
ORGANIZER;CN="Collectif%20Provence%20-%20Observatoire%20de%20la%20langue%20et%20de%20la%20culture%20proven%C3%A7ales":MAILTO:info@observatoire-provence.com
END:VEVENT
BEGIN:VEVENT
DTSTART;TZID=Europe/Paris:20260208T140000
DTEND;TZID=Europe/Paris:20260208T170000
DTSTAMP:20260422T172132
CREATED:20260204T135757Z
LAST-MODIFIED:20260204T135757Z
UID:5267-1770559200-1770570000@www.observatoire-provence.com
SUMMARY:17 ème Rencontre de Théâtre provençal-Pernes les Fontaines
DESCRIPTION:
URL:https://www.observatoire-provence.com/evenement/17-eme-rencontre-de-theatre-provencal-pernes-les-fontaines/
LOCATION:Centre Culturel des Augustins\, place Louis Giraud\, Pernes les Fontaines\, 84210
CATEGORIES:Théâtre
ATTACH;FMTTYPE=image/jpeg:https://www.observatoire-provence.com/wp-content/uploads/2026/02/theatre-afouga.jpg
END:VEVENT
BEGIN:VEVENT
DTSTART;TZID=Europe/Paris:20260228T140000
DTEND;TZID=Europe/Paris:20260228T170000
DTSTAMP:20260422T172132
CREATED:20260123T134434Z
LAST-MODIFIED:20260123T134434Z
UID:5237-1772287200-1772298000@www.observatoire-provence.com
SUMMARY:Café provençal-Gardanne
DESCRIPTION:
URL:https://www.observatoire-provence.com/evenement/cafe-provencal-gardanne/
LOCATION:Cercle de l’Avenir\, 12 cours de la République\, Gardanne\, 13120
CATEGORIES:Café provençal
ATTACH;FMTTYPE=image/jpeg:https://www.observatoire-provence.com/wp-content/uploads/2026/01/AFFICHE-CAFE-PROVENCAL-GARDANNE-FEVRIER-2026-copie.jpg
END:VEVENT
BEGIN:VEVENT
DTSTART;TZID=Europe/Paris:20260228T140000
DTEND;TZID=Europe/Paris:20260228T170000
DTSTAMP:20260422T172132
CREATED:20260204T135457Z
LAST-MODIFIED:20260204T135457Z
UID:5263-1772287200-1772298000@www.observatoire-provence.com
SUMMARY:Dictée provençale-Bédarrides
DESCRIPTION:
URL:https://www.observatoire-provence.com/evenement/dictee-provencale-bedarrides-3/
LOCATION:Salle des Verdeaux\, Avenue des Verdeaux\, Bédarrides\, 84370
CATEGORIES:Dictée provençale
ATTACH;FMTTYPE=image/jpeg:https://www.observatoire-provence.com/wp-content/uploads/2026/02/affiche-dictee_2026.jpg
END:VEVENT
END:VCALENDAR