BEGIN:VCALENDAR
VERSION:2.0
PRODID:-//Óusservatòri - ECPv5.8.0//NONSGML v1.0//EN
CALSCALE:GREGORIAN
METHOD:PUBLISH
X-WR-CALNAME:Óusservatòri
X-ORIGINAL-URL:https://www.observatoire-provence.com
X-WR-CALDESC:évènements pour Óusservatòri
BEGIN:VTIMEZONE
TZID:Europe/Paris
BEGIN:DAYLIGHT
TZOFFSETFROM:+0100
TZOFFSETTO:+0200
TZNAME:CEST
DTSTART:20250330T010000
END:DAYLIGHT
BEGIN:STANDARD
TZOFFSETFROM:+0200
TZOFFSETTO:+0100
TZNAME:CET
DTSTART:20251026T010000
END:STANDARD
END:VTIMEZONE
BEGIN:VEVENT
DTSTART;TZID=Europe/Paris:20251004T100000
DTEND;TZID=Europe/Paris:20251219T180000
DTSTAMP:20260422T203903
CREATED:20251029T091002Z
LAST-MODIFIED:20251029T091002Z
UID:4699-1759572000-1766167200@www.observatoire-provence.com
SUMMARY:Exposition rétrospective 25 ans-Mas Saint-Paul
DESCRIPTION:Inaugurée lors de la célébration des 25 ans du Collectif Prouvènço au Mas Saint-Paul le 4 octobre 2025\, cette exposition se prolonge jusqu’aux vacances de Noël! \nentrée gratuite \nouverture du lundi au vendredi\, 10h-12h et 14h18h \n 
URL:https://www.observatoire-provence.com/evenement/exposition-retrospective-25-ans-mas-saint-paul/
LOCATION:Observatoire de la langue et de la culture provençales\, 29 route de Pertuis\, CHEVAL-BLANC\, 84460\, France
CATEGORIES:Exposition
ATTACH;FMTTYPE=image/jpeg:https://www.observatoire-provence.com/wp-content/uploads/2025/10/expo-25-ans.jpg
ORGANIZER;CN="Collectif%20Provence%20-%20Observatoire%20de%20la%20langue%20et%20de%20la%20culture%20proven%C3%A7ales":MAILTO:info@observatoire-provence.com
END:VEVENT
BEGIN:VEVENT
DTSTART;TZID=Europe/Paris:20251206T143000
DTEND;TZID=Europe/Paris:20251206T180000
DTSTAMP:20260422T203903
CREATED:20251120T140508Z
LAST-MODIFIED:20251120T140508Z
UID:4918-1765031400-1765044000@www.observatoire-provence.com
SUMMARY:Après-midi calendal- Cavaillon
DESCRIPTION:
URL:https://www.observatoire-provence.com/evenement/apres-midi-calendal-cavaillon/
LOCATION:Salle du Grenier-MJC\, avenue du général de Gaulle\, Cavaillon\, 84300
ATTACH;FMTTYPE=image/jpeg:https://www.observatoire-provence.com/wp-content/uploads/2025/11/affiche-apres-midi-calendal-6-12-2025.jpg
END:VEVENT
BEGIN:VEVENT
DTSTART;VALUE=DATE:20251207
DTEND;VALUE=DATE:20251208
DTSTAMP:20260422T203903
CREATED:20251127T102932Z
LAST-MODIFIED:20251127T102932Z
UID:4930-1765065600-1765151999@www.observatoire-provence.com
SUMMARY:Fête de la Saint-Eloi à Cheval-Blanc
DESCRIPTION:Retrouvez les détails de la célébration sur la Gazette de Cheval-Blanc \nFête de la Saint Éloi : Dimanche 7 décembre une tradition ancestrale. – La Gazette de Cheval-Blanc
URL:https://www.observatoire-provence.com/evenement/fete-de-la-saint-eloi-a-cheval-blanc/
LOCATION:Cheval-Blanc\, Cheval-Blanc\, 84460
CATEGORIES:Fête traditionnelle
ATTACH;FMTTYPE=image/jpeg:https://www.observatoire-provence.com/wp-content/uploads/2025/11/St-Eloi-statue-768x1024-1.jpg
END:VEVENT
BEGIN:VEVENT
DTSTART;TZID=Europe/Paris:20251207T150000
DTEND;TZID=Europe/Paris:20251207T173000
DTSTAMP:20260422T203903
CREATED:20251110T111835Z
LAST-MODIFIED:20251110T111835Z
UID:4906-1765119600-1765128600@www.observatoire-provence.com
SUMMARY:La Pastorale Riboun-Vallabrègues
DESCRIPTION:
URL:https://www.observatoire-provence.com/evenement/la-pastorale-riboun-vallabregues/
LOCATION:Salle de la Calade 2\, Vallabrègues\, 30300\, France
CATEGORIES:Spectacle
ATTACH;FMTTYPE=image/jpeg:https://www.observatoire-provence.com/wp-content/uploads/2025/11/vallabregues_page-0002.jpg
ORGANIZER;CN="Service%20culture%20de%20la%20ville%20de%20Vallabr%C3%A8gues":MAILTO:brigitte.beladen.accueil@gmail.com
END:VEVENT
BEGIN:VEVENT
DTSTART;TZID=Europe/Paris:20251213T143000
DTEND;TZID=Europe/Paris:20251213T170000
DTSTAMP:20260422T203903
CREATED:20251121T083807Z
LAST-MODIFIED:20251121T083807Z
UID:4922-1765636200-1765645200@www.observatoire-provence.com
SUMMARY:Les 13 desserts-Plan d'Orgon
DESCRIPTION:
URL:https://www.observatoire-provence.com/evenement/les-13-desserts-plan-dorgon/
LOCATION:Centre Paul Faraud\, rue Paul Faraud\, Plan d'Orgon\, 13750
CATEGORIES:Concert
ATTACH;FMTTYPE=image/jpeg:https://www.observatoire-provence.com/wp-content/uploads/2025/11/galejaire-planen-scaled.jpg
END:VEVENT
BEGIN:VEVENT
DTSTART;TZID=Europe/Paris:20251216T200000
DTEND;TZID=Europe/Paris:20251216T213000
DTSTAMP:20260422T203903
CREATED:20250916T150047Z
LAST-MODIFIED:20250916T150047Z
UID:4629-1765915200-1765920600@www.observatoire-provence.com
SUMMARY:"Mirèio\, un rêve de Mistral"- Salon de Provence
DESCRIPTION:La pièce co-produite par le Collectif Prouvènço et Seart poursuit sa tournée régionale! \nEcrite\, adaptée et mise en scène par Gérard Gélas \nAvec Nicolas Dromard\, Juliette Garby\, François Santucci\, Jacques Vassy\, Guillaume Lanson\, Léa Coulanges\,  Nathalie Savalli \nDurée : 1h25\nA partir de 12 an
URL:https://www.observatoire-provence.com/evenement/mireio-un-reve-de-mistral-salon-de-provence/
LOCATION:Théâtre Armand\, 67 boulevard Nostradamus\, Salon de Provence\, 13300
CATEGORIES:Théâtre
ATTACH;FMTTYPE=image/jpeg:https://www.observatoire-provence.com/wp-content/uploads/2024/09/IMG-20240908-WA0018.jpg
END:VEVENT
BEGIN:VEVENT
DTSTART;TZID=Europe/Paris:20251218T183000
DTEND;TZID=Europe/Paris:20251218T203000
DTSTAMP:20260422T203903
CREATED:20251212T092444Z
LAST-MODIFIED:20251212T092444Z
UID:4953-1766082600-1766089800@www.observatoire-provence.com
SUMMARY:Conférence-Salon
DESCRIPTION:
URL:https://www.observatoire-provence.com/evenement/conference-salon/
LOCATION:Maison de la vie associative\, 55 rue André-Marie Ampère\, Salon de Provence\, 13300
CATEGORIES:Conférence
ATTACH;FMTTYPE=image/jpeg:https://www.observatoire-provence.com/wp-content/uploads/2025/12/conference-SPC.jpg
ORGANIZER;CN="Salon%20Patrimoine%20et%20Chemins":MAILTO:salon.patrimoine.chemins@gmail.com
END:VEVENT
BEGIN:VEVENT
DTSTART;TZID=Europe/Paris:20251219T150000
DTEND;TZID=Europe/Paris:20251219T170000
DTSTAMP:20260422T203903
CREATED:20251212T091507Z
LAST-MODIFIED:20251212T091507Z
UID:4949-1766156400-1766163600@www.observatoire-provence.com
SUMMARY:Café provençal- Cheval-Blanc
DESCRIPTION:
URL:https://www.observatoire-provence.com/evenement/cafe-provencal-cheval-blanc-5/
LOCATION:Observatoire de la langue et de la culture provençales\, 29 route de Pertuis\, CHEVAL-BLANC\, 84460\, France
CATEGORIES:Café provençal
ATTACH;FMTTYPE=image/jpeg:https://www.observatoire-provence.com/wp-content/uploads/2025/12/cafe-provencal.jpg
END:VEVENT
BEGIN:VEVENT
DTSTART;TZID=Europe/Paris:20251220T200000
DTEND;TZID=Europe/Paris:20251220T220000
DTSTAMP:20260422T203903
CREATED:20251212T092617Z
LAST-MODIFIED:20251212T092617Z
UID:4958-1766260800-1766268000@www.observatoire-provence.com
SUMMARY:Gros souper de Noël- Bédarrides
DESCRIPTION:
URL:https://www.observatoire-provence.com/evenement/gros-souper-de-noel-bedarrides-2/
LOCATION:Salle des Verdeaux\, Avenue des Verdeaux\, Bédarrides\, 84370
CATEGORIES:Fête traditionnelle
ATTACH;FMTTYPE=image/jpeg:https://www.observatoire-provence.com/wp-content/uploads/2025/12/SOUPER-DE-NOEL-scaled.jpg
END:VEVENT
END:VCALENDAR