BEGIN:VCALENDAR
VERSION:2.0
PRODID:-//Óusservatòri - ECPv5.8.0//NONSGML v1.0//EN
CALSCALE:GREGORIAN
METHOD:PUBLISH
X-WR-CALNAME:Óusservatòri
X-ORIGINAL-URL:https://www.observatoire-provence.com
X-WR-CALDESC:évènements pour Óusservatòri
BEGIN:VTIMEZONE
TZID:Europe/Paris
BEGIN:DAYLIGHT
TZOFFSETFROM:+0100
TZOFFSETTO:+0200
TZNAME:CEST
DTSTART:20250330T010000
END:DAYLIGHT
BEGIN:STANDARD
TZOFFSETFROM:+0200
TZOFFSETTO:+0100
TZNAME:CET
DTSTART:20251026T010000
END:STANDARD
END:VTIMEZONE
BEGIN:VEVENT
DTSTART;TZID=Europe/Paris:20251004T100000
DTEND;TZID=Europe/Paris:20251219T180000
DTSTAMP:20260422T221920
CREATED:20251029T091002Z
LAST-MODIFIED:20251029T091002Z
UID:4699-1759572000-1766167200@www.observatoire-provence.com
SUMMARY:Exposition rétrospective 25 ans-Mas Saint-Paul
DESCRIPTION:Inaugurée lors de la célébration des 25 ans du Collectif Prouvènço au Mas Saint-Paul le 4 octobre 2025\, cette exposition se prolonge jusqu’aux vacances de Noël! \nentrée gratuite \nouverture du lundi au vendredi\, 10h-12h et 14h18h \n 
URL:https://www.observatoire-provence.com/evenement/exposition-retrospective-25-ans-mas-saint-paul/
LOCATION:Observatoire de la langue et de la culture provençales\, 29 route de Pertuis\, CHEVAL-BLANC\, 84460\, France
CATEGORIES:Exposition
ATTACH;FMTTYPE=image/jpeg:https://www.observatoire-provence.com/wp-content/uploads/2025/10/expo-25-ans.jpg
ORGANIZER;CN="Collectif%20Provence%20-%20Observatoire%20de%20la%20langue%20et%20de%20la%20culture%20proven%C3%A7ales":MAILTO:info@observatoire-provence.com
END:VEVENT
BEGIN:VEVENT
DTSTART;TZID=Europe/Paris:20251020T100000
DTEND;TZID=Europe/Paris:20251121T170000
DTSTAMP:20260422T221920
CREATED:20251029T090646Z
LAST-MODIFIED:20251029T090646Z
UID:4694-1760954400-1763744400@www.observatoire-provence.com
SUMMARY:Exposition photos-Robion
DESCRIPTION:
URL:https://www.observatoire-provence.com/evenement/exposition-photos-robion/
LOCATION:Point infos Saint Roch\, 485 rue Oscar Roulet\, Robion\, 84440
CATEGORIES:Exposition
ATTACH;FMTTYPE=image/jpeg:https://www.observatoire-provence.com/wp-content/uploads/2025/10/AFFICHE-ROBION-2.jpg
END:VEVENT
BEGIN:VEVENT
DTSTART;TZID=Europe/Paris:20251107T180000
DTEND;TZID=Europe/Paris:20251107T200000
DTSTAMP:20260422T221920
CREATED:20251029T100224Z
LAST-MODIFIED:20251029T100224Z
UID:4703-1762538400-1762545600@www.observatoire-provence.com
SUMMARY:Cinéma- "Marcel et Monsieur Pagnol"-Eyguières
DESCRIPTION:
URL:https://www.observatoire-provence.com/evenement/cinema-marcel-et-monsieur-pagnol-eyguieres/
LOCATION:Cinéma le Grenier de l’Alcazar\, place Thiers\, Eyguières\, 13430
ATTACH;FMTTYPE=image/jpeg:https://www.observatoire-provence.com/wp-content/uploads/2025/10/aff.film-Pagnol-def.-scaled.jpg
ORGANIZER;CN="Les%20Chemins%20du%20Patrimoine":MAILTO:lescheminsdupatrimoine@gmail.com
END:VEVENT
BEGIN:VEVENT
DTSTART;TZID=Europe/Paris:20251109T080000
DTEND;TZID=Europe/Paris:20251130T170000
DTSTAMP:20260422T221920
CREATED:20251028T142508Z
LAST-MODIFIED:20251030T090834Z
UID:4684-1762675200-1764522000@www.observatoire-provence.com
SUMMARY:Fête des Bergers-Istres
DESCRIPTION:
URL:https://www.observatoire-provence.com/evenement/fete-des-bergers-istres/
LOCATION:Istres\, 13800
CATEGORIES:Fête traditionnelle
ATTACH;FMTTYPE=image/jpeg:https://www.observatoire-provence.com/wp-content/uploads/2025/10/aff-A3-fete-berger-2025-web.jpg
END:VEVENT
BEGIN:VEVENT
DTSTART;TZID=Europe/Paris:20251114T200000
DTEND;TZID=Europe/Paris:20251114T220000
DTSTAMP:20260422T221920
CREATED:20251104T083856Z
LAST-MODIFIED:20251104T083856Z
UID:4899-1763150400-1763157600@www.observatoire-provence.com
SUMMARY:Grand concert Gardaren lou Mistrau-Monteux
DESCRIPTION:
URL:https://www.observatoire-provence.com/evenement/grand-concert-gardaren-lou-mistrau-monteux/
LOCATION:Salle des fêtes du Château d’Eau\, rue des Hortensias\, Monteux\, 84170
CATEGORIES:Concert
ATTACH;FMTTYPE=image/jpeg:https://www.observatoire-provence.com/wp-content/uploads/2025/11/Flyer-A5-Concert-Monteux-2025-WEB-A5-SEUL-LI-CABRIAN_page-0001.jpg
END:VEVENT
BEGIN:VEVENT
DTSTART;TZID=Europe/Paris:20251119T203000
DTEND;TZID=Europe/Paris:20251119T220000
DTSTAMP:20260422T221920
CREATED:20251028T143248Z
LAST-MODIFIED:20251028T143248Z
UID:4688-1763584200-1763589600@www.observatoire-provence.com
SUMMARY:Mirèio\, un rêve de Mistral-Istres
DESCRIPTION:Lors de la fête des Bergers et des Traditions d’Istres\, le spectacle en français « Mirèio\, un rêve de Mistral »\, mis en scène et adapté par Gérard Gélas\, sur une idée de Jean-Pierre Richard\, co-produit par Seart et le Collectif Prouvènço sera joué le mercredi 19 novembre à 20h30 à l’Usine \nRenseignements et réservations \nComité de la Fête des Bergers d’Istres 06 19 61 71 81 \nOffice de Tourisme 04 42 81 76 00
URL:https://www.observatoire-provence.com/evenement/mireio-un-reve-de-mistral-istres/
LOCATION:L’Usine\, route nationale\, 569 route de Fos\, Istres\, 13800\, France
CATEGORIES:Théâtre
ATTACH;FMTTYPE=image/jpeg:https://www.observatoire-provence.com/wp-content/uploads/2025/10/decaux-MIREIO-scaled.jpg
END:VEVENT
BEGIN:VEVENT
DTSTART;TZID=Europe/Paris:20251123T093000
DTEND;TZID=Europe/Paris:20251123T170000
DTSTAMP:20260422T221920
CREATED:20251120T132747Z
LAST-MODIFIED:20251120T132747Z
UID:4911-1763890200-1763917200@www.observatoire-provence.com
SUMMARY:Journée pastorale-Istres
DESCRIPTION:Dans le cadre de la fête des Bergers et des Traditions\, retrouvez la Boutigo de l’Observatoire de la langue et de la culture provençales lors de la journée pastoral\, en compagnie d’autres exposants et activités!
URL:https://www.observatoire-provence.com/evenement/journee-pastorale-istres/
LOCATION:Centre Equestre le Deven\, chemin du Deven\, Istres\, 13800
CATEGORIES:Marché provençal
ATTACH;FMTTYPE=image/jpeg:https://www.observatoire-provence.com/wp-content/uploads/2025/11/tract-fete-berger-PROGRAMME-2025.jpg
END:VEVENT
END:VCALENDAR