BEGIN:VCALENDAR
VERSION:2.0
PRODID:-//Óusservatòri - ECPv5.8.0//NONSGML v1.0//EN
CALSCALE:GREGORIAN
METHOD:PUBLISH
X-WR-CALNAME:Óusservatòri
X-ORIGINAL-URL:https://www.observatoire-provence.com
X-WR-CALDESC:évènements pour Óusservatòri
BEGIN:VTIMEZONE
TZID:Europe/Paris
BEGIN:DAYLIGHT
TZOFFSETFROM:+0100
TZOFFSETTO:+0200
TZNAME:CEST
DTSTART:20240331T010000
END:DAYLIGHT
BEGIN:STANDARD
TZOFFSETFROM:+0200
TZOFFSETTO:+0100
TZNAME:CET
DTSTART:20241027T010000
END:STANDARD
END:VTIMEZONE
BEGIN:VEVENT
DTSTART;TZID=Europe/Paris:20240301T100000
DTEND;TZID=Europe/Paris:20240330T180000
DTSTAMP:20260422T132045
CREATED:20240215T145848Z
LAST-MODIFIED:20240215T145848Z
UID:3261-1709287200-1711821600@www.observatoire-provence.com
SUMMARY:Exposition temporaire-Mas Saint-Paul- Cheval-Blanc
DESCRIPTION:entrée gratuite! \nouverture du mardi au samedi de 10h à 12h et de 14h à 18h \nrenseignements au 04 90 78 02 15 ou info@observatoire-provence.com
URL:https://www.observatoire-provence.com/evenement/exposition-temporaire-mas-saint-paul-cheval-blanc/
LOCATION:Observatoire de la langue et de la culture provençales\, 29 route de Pertuis\, CHEVAL-BLANC\, 84460\, France
CATEGORIES:Exposition
ATTACH;FMTTYPE=image/jpeg:https://www.observatoire-provence.com/wp-content/uploads/2024/02/Belles-flyer-recto.jpg
ORGANIZER;CN="Collectif%20Provence%20-%20Observatoire%20de%20la%20langue%20et%20de%20la%20culture%20proven%C3%A7ales":MAILTO:info@observatoire-provence.com
END:VEVENT
BEGIN:VEVENT
DTSTART;TZID=Europe/Paris:20240307T143000
DTEND;TZID=Europe/Paris:20240307T163000
DTSTAMP:20260422T132045
CREATED:20240224T083916Z
LAST-MODIFIED:20240224T083916Z
UID:3279-1709821800-1709829000@www.observatoire-provence.com
SUMMARY:Conférence-Robion
DESCRIPTION:
URL:https://www.observatoire-provence.com/evenement/conference-robion/
LOCATION:Salle de l’Eden\, 6 rue Antoine Gros\, Robion\, 84440
CATEGORIES:Conférence
ATTACH;FMTTYPE=image/jpeg:https://www.observatoire-provence.com/wp-content/uploads/2024/02/Caramentran-affiche-03-scaled.jpg
END:VEVENT
BEGIN:VEVENT
DTSTART;TZID=Europe/Paris:20240319T140000
DTEND;TZID=Europe/Paris:20240319T150000
DTSTAMP:20260422T132045
CREATED:20240316T095719Z
LAST-MODIFIED:20240316T095719Z
UID:3307-1710856800-1710860400@www.observatoire-provence.com
SUMMARY:Conférence-Bédarrides
DESCRIPTION:MISTRAL PRIX NOBEL \npar Alain Constantini
URL:https://www.observatoire-provence.com/evenement/conference-bedarrides/
LOCATION:salle Etienne Gonnet\, place de la Mairie\, Bédarrides\, 84370
CATEGORIES:Conférence
ATTACH;FMTTYPE=image/jpeg:https://www.observatoire-provence.com/wp-content/uploads/2024/03/conference-Prix-nobel-scaled.jpeg
END:VEVENT
BEGIN:VEVENT
DTSTART;TZID=Europe/Paris:20240323T093000
DTEND;TZID=Europe/Paris:20240323T180000
DTSTAMP:20260422T132045
CREATED:20240215T151121Z
LAST-MODIFIED:20240215T151121Z
UID:3265-1711186200-1711216800@www.observatoire-provence.com
SUMMARY:Les premières assises des langues et cultures régionales- Domaine de l'Etang des Aulnes-Saint-Martin de Crau
DESCRIPTION:Une journée de conférences et tables rondes sur les langues et cultures régionales avec de nombreux invités \nclôturée par un concert du groupe Zoumai Aqui! \nrepas sur réservation (info@observatoire-provence.com ou par téléphone 04 90 78 02 15 ou directement en ligne ) \nprogramme complet sur notre site internet\, onglet Actualités
URL:https://www.observatoire-provence.com/evenement/les-premieres-assises-des-langues-et-cultures-regionales-domaine-de-letang-des-aulnes-saint-martin-de-crau/
LOCATION:Domaine de l’Etang des Aulnes\, Domaine départemental de l'étang des Aulnes\, Saint-Martin-de-Crau\, 13310\, France
CATEGORIES:Concert,Conférence
ATTACH;FMTTYPE=image/jpeg:https://www.observatoire-provence.com/wp-content/uploads/2024/02/Collectif_assises_affiche-Copie-scaled.jpg
ORGANIZER;CN="Collectif%20Provence%20-%20Observatoire%20de%20la%20langue%20et%20de%20la%20culture%20proven%C3%A7ales":MAILTO:info@observatoire-provence.com
END:VEVENT
END:VCALENDAR