BEGIN:VCALENDAR
VERSION:2.0
PRODID:-//Óusservatòri - ECPv5.8.0//NONSGML v1.0//EN
CALSCALE:GREGORIAN
METHOD:PUBLISH
X-WR-CALNAME:Óusservatòri
X-ORIGINAL-URL:https://www.observatoire-provence.com
X-WR-CALDESC:évènements pour Óusservatòri
BEGIN:VTIMEZONE
TZID:Europe/Paris
BEGIN:DAYLIGHT
TZOFFSETFROM:+0100
TZOFFSETTO:+0200
TZNAME:CEST
DTSTART:20230326T010000
END:DAYLIGHT
BEGIN:STANDARD
TZOFFSETFROM:+0200
TZOFFSETTO:+0100
TZNAME:CET
DTSTART:20231029T010000
END:STANDARD
BEGIN:DAYLIGHT
TZOFFSETFROM:+0100
TZOFFSETTO:+0200
TZNAME:CEST
DTSTART:20240331T010000
END:DAYLIGHT
BEGIN:STANDARD
TZOFFSETFROM:+0200
TZOFFSETTO:+0100
TZNAME:CET
DTSTART:20241027T010000
END:STANDARD
END:VTIMEZONE
BEGIN:VEVENT
DTSTART;TZID=Europe/Paris:20231124T100000
DTEND;TZID=Europe/Paris:20240224T180000
DTSTAMP:20260422T124644
CREATED:20231023T083010Z
LAST-MODIFIED:20231026T094129Z
UID:2986-1700820000-1708797600@www.observatoire-provence.com
SUMMARY:Exposition temporaire au Mas Saint-Paul- Les Santibelli de Pierre Bergé-Une collection du Musée Estrine
DESCRIPTION:entrée à 3€-gratuit pour les adhérents-visites guidées sur réservation pour les groupes \nplus d’informations: \nExposition temporaire au Mas Saint-Paul | Óusservatòri (observatoire-provence.com) \n 
URL:https://www.observatoire-provence.com/evenement/exposition-temporaire-au-mas-saint-paul-les-santibelli-de-pierre-berge-une-collection-du-musee-estrine/
LOCATION:Observatoire de la langue et de la culture provençales\, 29 route de Pertuis\, CHEVAL-BLANC\, 84460\, France
CATEGORIES:Exposition
ATTACH;FMTTYPE=image/jpeg:https://www.observatoire-provence.com/wp-content/uploads/2023/10/Collectif_santibelli_affiche_02-page-001-1-scaled.jpg
ORGANIZER;CN="Collectif%20Provence%20-%20Observatoire%20de%20la%20langue%20et%20de%20la%20culture%20proven%C3%A7ales":MAILTO:info@observatoire-provence.com
END:VEVENT
BEGIN:VEVENT
DTSTART;TZID=Europe/Paris:20240130T080000
DTEND;TZID=Europe/Paris:20240203T170000
DTSTAMP:20260422T124644
CREATED:20240129T164136Z
LAST-MODIFIED:20240129T164136Z
UID:3232-1706601600-1706979600@www.observatoire-provence.com
SUMMARY:Exposition-Crèche blanche-Avignon
DESCRIPTION:
URL:https://www.observatoire-provence.com/evenement/exposition-creche-blanche-avignon/
LOCATION:Palais du Roure\, 3 Rue Collège du Roure\, Avignon\, 84000\, France
CATEGORIES:Exposition
ATTACH;FMTTYPE=image/jpeg:https://www.observatoire-provence.com/wp-content/uploads/2024/01/image002.jpg
END:VEVENT
BEGIN:VEVENT
DTSTART;TZID=Europe/Paris:20240210T140000
DTEND;TZID=Europe/Paris:20240210T170000
DTSTAMP:20260422T124644
CREATED:20240201T153920Z
LAST-MODIFIED:20240201T153920Z
UID:3238-1707573600-1707584400@www.observatoire-provence.com
SUMMARY:Dictée provençale-Bédarrides
DESCRIPTION:
URL:https://www.observatoire-provence.com/evenement/dictee-provencale-bedarrides/
LOCATION:Salle des Verdeaux\, Avenue des Verdeaux\, Bédarrides\, 84370
CATEGORIES:Dictée provençale
ATTACH;FMTTYPE=image/jpeg:https://www.observatoire-provence.com/wp-content/uploads/2024/02/affiche-ditado.jpg
END:VEVENT
BEGIN:VEVENT
DTSTART;TZID=Europe/Paris:20240210T160000
DTEND;TZID=Europe/Paris:20240210T170000
DTSTAMP:20260422T124644
CREATED:20240129T092233Z
LAST-MODIFIED:20240129T092233Z
UID:3225-1707580800-1707584400@www.observatoire-provence.com
SUMMARY:Concert-Chants de Noël-Sénas
DESCRIPTION:
URL:https://www.observatoire-provence.com/evenement/concert-chants-de-noel-senas/
LOCATION:Eglise Saint Amand\, Sénas\, 13560
CATEGORIES:Concert
ATTACH;FMTTYPE=image/jpeg:https://www.observatoire-provence.com/wp-content/uploads/2024/01/Carpe-Diem-Orchestra-20240210-fond-blanc_page-0001.jpg
END:VEVENT
BEGIN:VEVENT
DTSTART;TZID=Europe/Paris:20240211T140000
DTEND;TZID=Europe/Paris:20240211T170000
DTSTAMP:20260422T124644
CREATED:20240118T091158Z
LAST-MODIFIED:20240118T091158Z
UID:3217-1707660000-1707670800@www.observatoire-provence.com
SUMMARY:15ème rencontre de théâtre provençal-Pernes les Fontaines
DESCRIPTION:
URL:https://www.observatoire-provence.com/evenement/15eme-rencontre-de-theatre-provencal-pernes-les-fontaines/
LOCATION:Centre Culturel des Augustins\, place Louis Giraud\, Pernes les Fontaines\, 84210
CATEGORIES:Théâtre
ATTACH;FMTTYPE=image/jpeg:https://www.observatoire-provence.com/wp-content/uploads/2024/01/theatre.jpg
END:VEVENT
BEGIN:VEVENT
DTSTART;TZID=Europe/Paris:20240229T180000
DTEND;TZID=Europe/Paris:20240229T190000
DTSTAMP:20260422T124644
CREATED:20240210T130507Z
LAST-MODIFIED:20240210T130507Z
UID:3253-1709229600-1709233200@www.observatoire-provence.com
SUMMARY:Vernissage de l'exposition temporaire au Mas Saint-Paul
DESCRIPTION:Soyez les bienvenus au vernissage de l’exposition « Les Belles\, uno tradicioun de Chivau-Blanc »!
URL:https://www.observatoire-provence.com/evenement/vernissage-de-lexposition-temporaire-au-mas-saint-paul-2/
LOCATION:Observatoire de la langue et de la culture provençales\, 29 route de Pertuis\, CHEVAL-BLANC\, 84460\, France
ATTACH;FMTTYPE=image/jpeg:https://www.observatoire-provence.com/wp-content/uploads/2024/02/POST-INSTA.jpg
ORGANIZER;CN="Collectif%20Provence%20-%20Observatoire%20de%20la%20langue%20et%20de%20la%20culture%20proven%C3%A7ales":MAILTO:info@observatoire-provence.com
END:VEVENT
END:VCALENDAR