BEGIN:VCALENDAR
VERSION:2.0
PRODID:-//Óusservatòri - ECPv5.8.0//NONSGML v1.0//EN
CALSCALE:GREGORIAN
METHOD:PUBLISH
X-WR-CALNAME:Óusservatòri
X-ORIGINAL-URL:https://www.observatoire-provence.com
X-WR-CALDESC:évènements pour Óusservatòri
BEGIN:VTIMEZONE
TZID:Europe/Paris
BEGIN:DAYLIGHT
TZOFFSETFROM:+0100
TZOFFSETTO:+0200
TZNAME:CEST
DTSTART:20260329T010000
END:DAYLIGHT
BEGIN:STANDARD
TZOFFSETFROM:+0200
TZOFFSETTO:+0100
TZNAME:CET
DTSTART:20261025T010000
END:STANDARD
END:VTIMEZONE
BEGIN:VEVENT
DTSTART;TZID=Europe/Paris:20260206T100000
DTEND;TZID=Europe/Paris:20260425T180000
DTSTAMP:20260422T124519
CREATED:20260202T110727Z
LAST-MODIFIED:20260411T120325Z
UID:5253-1770372000-1777140000@www.observatoire-provence.com
SUMMARY:Exposition - Mas Saint-Paul
DESCRIPTION:entrée 5€ \ngratuit pour les moins de 18 ans et les adhérents \nATTENTION CHANGEMENT: fermeture les jeudis après-midi \nATTENTION: fermeture exceptionnelle le 18 avril en raison du Forum du Collectif Prouvènço à Maussane les Alpilles \n  \n  \n 
URL:https://www.observatoire-provence.com/evenement/exposition-mas-saint-paul/
LOCATION:Observatoire de la langue et de la culture provençales\, 29 route de Pertuis\, CHEVAL-BLANC\, 84460\, France
CATEGORIES:Exposition
ATTACH;FMTTYPE=image/jpeg:https://www.observatoire-provence.com/wp-content/uploads/2026/02/Collectif_web_transhumance_post-FB.jpg
ORGANIZER;CN="Collectif%20Provence%20-%20Observatoire%20de%20la%20langue%20et%20de%20la%20culture%20proven%C3%A7ales":MAILTO:info@observatoire-provence.com
END:VEVENT
BEGIN:VEVENT
DTSTART;TZID=Europe/Paris:20260407T080000
DTEND;TZID=Europe/Paris:20260429T170000
DTSTAMP:20260422T124519
CREATED:20260331T101226Z
LAST-MODIFIED:20260331T101226Z
UID:5327-1775548800-1777482000@www.observatoire-provence.com
SUMMARY:le Printemps provençal d'Istres
DESCRIPTION:
URL:https://www.observatoire-provence.com/evenement/le-printemps-provencal-distres-3/
LOCATION:Istres\, 13800
ATTACH;FMTTYPE=image/jpeg:https://www.observatoire-provence.com/wp-content/uploads/2026/03/A-Affiche-Vierge-PP-2026-Generale-avec-participants_page-0001.jpg
ORGANIZER;CN="Association%20Lou%20Liame":MAILTO:jemamajecle@wanadoo.fr
END:VEVENT
BEGIN:VEVENT
DTSTART;TZID=Europe/Paris:20260426T093000
DTEND;TZID=Europe/Paris:20260426T130000
DTSTAMP:20260422T124519
CREATED:20260408T120357Z
LAST-MODIFIED:20260408T120357Z
UID:5334-1777195800-1777208400@www.observatoire-provence.com
SUMMARY:Fête de la Saint-Georges-Grans
DESCRIPTION:Toutes les personnes costumées ou non peuvent participer à la procession de la Saint-Georges qui aura lieu le 26 avril 2026 à Grans\, nous  vous adressons ci-dessous le déroulé :\n\n\n\nle départ de la procession :  Eglise Saint-Pierre à 9h30.\n\n\nun rassemblement est prévu à 10 h au départ du chemin des plantades (derrière les services techniques de la Mairie) vous pouvez vous y rendre directement en voiture\,\n\n\naprès une demi heure de marche\, arrivée à la Chapelle.\n\n\nMesse en provençal à 11 h (vous pouvez vous rendre directement à la Chapelle en voiture\, si vous le souhaitez)\n\n\nBénédiction\n\n\napéritif offert par la Mairie\n\n\nvous pouvez pique-niquer sur place (repas tiré du sac).\n\n\nUn minibus est mis à disposition par la Mairie (après l’apéritif) pour les  personnes souhaitant regagner leur véhicule stationné dans le village.\n\nPour tout renseignement complémentaire vous pouvez appeler le 06 28 05 99 61
URL:https://www.observatoire-provence.com/evenement/fete-de-la-saint-georges-grans/
LOCATION:Grans\, 13450
CATEGORIES:Fête traditionnelle
ATTACH;FMTTYPE=image/jpeg:https://www.observatoire-provence.com/wp-content/uploads/2026/04/St-Georges-2026..jpg
END:VEVENT
END:VCALENDAR