BEGIN:VCALENDAR
VERSION:2.0
PRODID:-//Óusservatòri - ECPv5.8.0//NONSGML v1.0//EN
CALSCALE:GREGORIAN
METHOD:PUBLISH
X-WR-CALNAME:Óusservatòri
X-ORIGINAL-URL:https://www.observatoire-provence.com
X-WR-CALDESC:évènements pour Óusservatòri
BEGIN:VTIMEZONE
TZID:Europe/Paris
BEGIN:DAYLIGHT
TZOFFSETFROM:+0100
TZOFFSETTO:+0200
TZNAME:CEST
DTSTART:20260329T010000
END:DAYLIGHT
BEGIN:STANDARD
TZOFFSETFROM:+0200
TZOFFSETTO:+0100
TZNAME:CET
DTSTART:20261025T010000
END:STANDARD
END:VTIMEZONE
BEGIN:VEVENT
DTSTART;TZID=Europe/Paris:20260118T150000
DTEND;TZID=Europe/Paris:20260118T163000
DTSTAMP:20260422T202812
CREATED:20260106T085353Z
LAST-MODIFIED:20260106T085353Z
UID:4963-1768748400-1768753800@www.observatoire-provence.com
SUMMARY:Mirèio\, un rêve de Mistral-Théâtre à Tarascon
DESCRIPTION:La pièce créé par Gérard Gélas continue sa tournée régionale!
URL:https://www.observatoire-provence.com/evenement/mireio-un-reve-de-mistral-theatre-a-tarascon/
LOCATION:Théâtre de Tarascon\, 2 rue Eugène Pelletan\, Tarascon\, 13150
CATEGORIES:Théâtre
ATTACH;FMTTYPE=image/jpeg:https://www.observatoire-provence.com/wp-content/uploads/2026/01/Mireio-Tarascon-scaled.jpg
END:VEVENT
BEGIN:VEVENT
DTSTART;TZID=Europe/Paris:20260118T150000
DTEND;TZID=Europe/Paris:20260118T170000
DTSTAMP:20260422T202812
CREATED:20260108T162221Z
LAST-MODIFIED:20260108T162221Z
UID:4981-1768748400-1768755600@www.observatoire-provence.com
SUMMARY:Crèche parlante- Cheval-Blanc
DESCRIPTION:
URL:https://www.observatoire-provence.com/evenement/creche-parlante-cheval-blanc/
LOCATION:Eglise de Cheval-Blanc\, Cheval-Blanc
ATTACH;FMTTYPE=image/jpeg:https://www.observatoire-provence.com/wp-content/uploads/2026/01/Affiche_creche-parlante-Cheval-Blanc-1_page-0001.jpg
END:VEVENT
END:VCALENDAR