BEGIN:VCALENDAR
VERSION:2.0
PRODID:-//Óusservatòri - ECPv5.8.0//NONSGML v1.0//EN
CALSCALE:GREGORIAN
METHOD:PUBLISH
X-WR-CALNAME:Óusservatòri
X-ORIGINAL-URL:https://www.observatoire-provence.com
X-WR-CALDESC:évènements pour Óusservatòri
BEGIN:VTIMEZONE
TZID:Europe/Paris
BEGIN:DAYLIGHT
TZOFFSETFROM:+0100
TZOFFSETTO:+0200
TZNAME:CEST
DTSTART:20250330T010000
END:DAYLIGHT
BEGIN:STANDARD
TZOFFSETFROM:+0200
TZOFFSETTO:+0100
TZNAME:CET
DTSTART:20251026T010000
END:STANDARD
END:VTIMEZONE
BEGIN:VEVENT
DTSTART;TZID=Europe/Paris:20251220T200000
DTEND;TZID=Europe/Paris:20251220T220000
DTSTAMP:20260422T221846
CREATED:20251212T092617Z
LAST-MODIFIED:20251212T092617Z
UID:4958-1766260800-1766268000@www.observatoire-provence.com
SUMMARY:Gros souper de Noël- Bédarrides
DESCRIPTION:
URL:https://www.observatoire-provence.com/evenement/gros-souper-de-noel-bedarrides-2/
LOCATION:Salle des Verdeaux\, Avenue des Verdeaux\, Bédarrides\, 84370
CATEGORIES:Fête traditionnelle
ATTACH;FMTTYPE=image/jpeg:https://www.observatoire-provence.com/wp-content/uploads/2025/12/SOUPER-DE-NOEL-scaled.jpg
END:VEVENT
END:VCALENDAR