BEGIN:VCALENDAR
VERSION:2.0
PRODID:-//Óusservatòri - ECPv5.8.0//NONSGML v1.0//EN
CALSCALE:GREGORIAN
METHOD:PUBLISH
X-WR-CALNAME:Óusservatòri
X-ORIGINAL-URL:https://www.observatoire-provence.com
X-WR-CALDESC:évènements pour Óusservatòri
BEGIN:VTIMEZONE
TZID:Europe/Paris
BEGIN:DAYLIGHT
TZOFFSETFROM:+0100
TZOFFSETTO:+0200
TZNAME:CEST
DTSTART:20250330T010000
END:DAYLIGHT
BEGIN:STANDARD
TZOFFSETFROM:+0200
TZOFFSETTO:+0100
TZNAME:CET
DTSTART:20251026T010000
END:STANDARD
END:VTIMEZONE
BEGIN:VEVENT
DTSTART;TZID=Europe/Paris:20251004T100000
DTEND;TZID=Europe/Paris:20251219T180000
DTSTAMP:20260422T221848
CREATED:20251029T091002Z
LAST-MODIFIED:20251029T091002Z
UID:4699-1759572000-1766167200@www.observatoire-provence.com
SUMMARY:Exposition rétrospective 25 ans-Mas Saint-Paul
DESCRIPTION:Inaugurée lors de la célébration des 25 ans du Collectif Prouvènço au Mas Saint-Paul le 4 octobre 2025\, cette exposition se prolonge jusqu’aux vacances de Noël! \nentrée gratuite \nouverture du lundi au vendredi\, 10h-12h et 14h18h \n 
URL:https://www.observatoire-provence.com/evenement/exposition-retrospective-25-ans-mas-saint-paul/
LOCATION:Observatoire de la langue et de la culture provençales\, 29 route de Pertuis\, CHEVAL-BLANC\, 84460\, France
CATEGORIES:Exposition
ATTACH;FMTTYPE=image/jpeg:https://www.observatoire-provence.com/wp-content/uploads/2025/10/expo-25-ans.jpg
ORGANIZER;CN="Collectif%20Provence%20-%20Observatoire%20de%20la%20langue%20et%20de%20la%20culture%20proven%C3%A7ales":MAILTO:info@observatoire-provence.com
END:VEVENT
END:VCALENDAR